BEGIN:VCALENDAR
VERSION:2.0
PRODID:-//International Church of Shanghai - ECPv6.13.2.1//NONSGML v1.0//EN
CALSCALE:GREGORIAN
METHOD:PUBLISH
X-WR-CALNAME:International Church of Shanghai
X-ORIGINAL-URL:https://icshq.org
X-WR-CALDESC:Events for International Church of Shanghai
REFRESH-INTERVAL;VALUE=DURATION:PT1H
X-Robots-Tag:noindex
X-PUBLISHED-TTL:PT1H
BEGIN:VTIMEZONE
TZID:Asia/Shanghai
BEGIN:STANDARD
TZOFFSETFROM:+0800
TZOFFSETTO:+0800
TZNAME:CST
DTSTART:20240101T000000
END:STANDARD
END:VTIMEZONE
BEGIN:VEVENT
DTSTART;TZID=Asia/Shanghai:20240601T000000
DTEND;TZID=Asia/Shanghai:20240601T235900
DTSTAMP:20260419T222006
CREATED:20240518T141702Z
LAST-MODIFIED:20240529T091120Z
UID:685-1717200000-1717286340@icshq.org
SUMMARY:
DESCRIPTION:We are thrilled to announce that our new website will launch on June 1st!\nTo ensure a smooth transition\, our current website will undergo maintenance from May 27th to May 31st and will be temporarily unavailable during this period. \n\nFeatures of the New Website:\n\nModern Design: Our new website boasts a clean and contemporary design that is easy to navigate and visually appealing.\nEnhanced User Experience: With improved navigation and functionality\, you can find the information you need more quickly and easily.\nLatest News and Updates: Stay up-to-date with our latest news\, blog posts\, and announcements directly from our homepage.\nContact and Support: Easily contact us through our new and improved contact forms\, and find support resources readily available.\n\nWe appreciate your understanding and patience as we work to bring you a better online experience.
URL:https://icshq.org/event/new-website-launch/
LOCATION:上海市 — Shanghai Shi
CATEGORIES:Operation
ORGANIZER;CN="ICS Operation Team":MAILTO:info@icshq.org
END:VEVENT
BEGIN:VEVENT
DTSTART;TZID=Asia/Shanghai:20240615T080000
DTEND;TZID=Asia/Shanghai:20240616T170000
DTSTAMP:20260419T222006
CREATED:20240506T043144Z
LAST-MODIFIED:20241011T142736Z
UID:576-1718438400-1718557200@icshq.org
SUMMARY:Focus Living Course
DESCRIPTION:Each of us is being shaped by God to make a unique and ultimate contribution (Eph 2:10). The question isn’t whether God is at work\, but knowing how to recognize better  \n(1) what God is at work doing and  (2) how to set a path to align with His work. \nOver 25\,000 everyday leaders have experienced the Focused Living process in more than ten languages. It seeks to address three core questions: Where have you been? Where are you going? Who can help you get there? \nWHY? \n\nONLY 1 in 3 leaders finish well. Everyone should finish well!\n\nPersonal Renewal precedes Corporate Renewal. Leaders need to have a big-picture view of their lifelong journey.3. It is about Discovery & Alignment to what He has already begun (Eph 2:10). \n\n\nJoin us for this coming training!
URL:https://icshq.org/event/576/
LOCATION:Grand Millennium Shanghai\, Yan'an West road 2588\, shanghai\, 上海市 — Shanghai Shi\, 200000\, 中国
CATEGORIES:Discipleship
ATTACH;FMTTYPE=image/png:https://icshq.org/wp-content/uploads/2024/05/3.png
ORGANIZER;CN="ICS Operation Team":MAILTO:info@icshq.org
END:VEVENT
BEGIN:VEVENT
DTSTART;TZID=Asia/Shanghai:20240616T090000
DTEND;TZID=Asia/Shanghai:20240616T143000
DTSTAMP:20260419T222006
CREATED:20240525T031756Z
LAST-MODIFIED:20240525T031756Z
UID:1166-1718528400-1718548200@icshq.org
SUMMARY:Special Sunday Service - Father's Day
DESCRIPTION:Father’s Day is a time to honor the remarkable men who have shaped our lives with their love\, guidance\, and unwavering support. Let’s show our appreciation to our father not only on Father’s Day\, but every day in our life.
URL:https://icshq.org/event/special-sunday-service-fathers-day/
LOCATION:上海市 — Shanghai Shi
CATEGORIES:Default
ATTACH;FMTTYPE=image/png:https://icshq.org/wp-content/uploads/2024/05/Fathers-day.png
ORGANIZER;CN="ICS Operation Team":MAILTO:info@icshq.org
END:VEVENT
BEGIN:VEVENT
DTSTART;TZID=Asia/Shanghai:20240629T100000
DTEND;TZID=Asia/Shanghai:20240629T170000
DTSTAMP:20260419T222006
CREATED:20240525T030809Z
LAST-MODIFIED:20240531T153011Z
UID:1164-1719655200-1719680400@icshq.org
SUMMARY:Discipleship Seminar - Paul Orlenius
DESCRIPTION:Discipleship Seminar 门徒培训研讨会 \nThe Bible begins with God creating everything through His Word. This seminar provides insights into the intended stewardship of the world according to His design. 圣经始于上帝透过话语创造了万物。我们将通过此次研讨会了解上帝希望我们如何管理这个世界。 \n\n\n\n\nSeminar Information: 研讨会相关信息 \n\nNo cost 无需费用\nLunch By Yourself 自行安排午餐\nSimultaneous Chinese Interpretation provided 提供中文同声传译\n29-June Saturday\n10:00 am – 5:00pm\nLocation: MillenniumHotel\n\n\n\n\n\nSpeaker: Paul Orlenius \n5 Sessions: \n\n\n\n\n\nThe Beginning: A Biblical Kingdom Narrative\nReset: Wholistic contra dualistic worldview q Responsibility: Identify your garden\nWorking from a place of rest in Christ\nGardener’s vision\, strategy\, planning and action\n\n \n\n\n 
URL:https://icshq.org/event/discipleship-seminar-paul-orlenius/
LOCATION:Grand Millennium Shanghai\, Yan'an West road 2588\, shanghai\, 上海市 — Shanghai Shi\, 200000\, 中国
CATEGORIES:Default
ATTACH;FMTTYPE=image/png:https://icshq.org/wp-content/uploads/2024/05/Cultivate-Your-Garden-Cover.png
END:VEVENT
END:VCALENDAR