BEGIN:VCALENDAR
VERSION:2.0
PRODID:-//International Church of Shanghai - ECPv6.13.2.1//NONSGML v1.0//EN
CALSCALE:GREGORIAN
METHOD:PUBLISH
X-WR-CALNAME:International Church of Shanghai
X-ORIGINAL-URL:https://icshq.org
X-WR-CALDESC:Events for International Church of Shanghai
REFRESH-INTERVAL;VALUE=DURATION:PT1H
X-Robots-Tag:noindex
X-PUBLISHED-TTL:PT1H
BEGIN:VTIMEZONE
TZID:Asia/Shanghai
BEGIN:STANDARD
TZOFFSETFROM:+0800
TZOFFSETTO:+0800
TZNAME:CST
DTSTART:20240101T000000
END:STANDARD
END:VTIMEZONE
BEGIN:VEVENT
DTSTART;TZID=Asia/Shanghai:20240519T090000
DTEND;TZID=Asia/Shanghai:20240519T140000
DTSTAMP:20260419T232942
CREATED:20240418T041958Z
LAST-MODIFIED:20240506T042311Z
UID:543-1716109200-1716127200@icshq.org
SUMMARY:ServeFest Sunday
DESCRIPTION:Servefest is a biannual event that aims to create awareness and encourage members to sign up and serve in the various ministries that work together as one in ICS.  \nDuring the event\, you will have the opportunity to meet each Ministry Head and its members and enjoy some fun and fellowship.  Remember\, each of us is a crucial part of the puzzle and has a unique role\, no matter how big or small. \n Let us all glorify God by using the talents and gifts He has given us to serve others！
URL:https://icshq.org/event/servefest-sunday/
LOCATION:Grand Millennium Shanghai\, Yan'an West road 2588\, shanghai\, 上海市 — Shanghai Shi\, 200000\, 中国
ATTACH;FMTTYPE=image/png:https://icshq.org/wp-content/uploads/2024/04/1.png
ORGANIZER;CN="ICS Operation Team":MAILTO:info@icshq.org
END:VEVENT
END:VCALENDAR