BEGIN:VCALENDAR
VERSION:2.0
PRODID:-//International Church of Shanghai - ECPv6.13.2.1//NONSGML v1.0//EN
CALSCALE:GREGORIAN
METHOD:PUBLISH
X-WR-CALNAME:International Church of Shanghai
X-ORIGINAL-URL:https://icshq.org
X-WR-CALDESC:Events for International Church of Shanghai
REFRESH-INTERVAL;VALUE=DURATION:PT1H
X-Robots-Tag:noindex
X-PUBLISHED-TTL:PT1H
BEGIN:VTIMEZONE
TZID:Asia/Shanghai
BEGIN:STANDARD
TZOFFSETFROM:+0800
TZOFFSETTO:+0800
TZNAME:CST
DTSTART:20240101T000000
END:STANDARD
END:VTIMEZONE
BEGIN:VEVENT
DTSTART;VALUE=DATE:20240401
DTEND;VALUE=DATE:20240402
DTSTAMP:20260420T005724
CREATED:20240401T145627Z
LAST-MODIFIED:20240401T145839Z
UID:306-1711929600-1712015999@icshq.org
SUMMARY:复活节
DESCRIPTION:马上就要开始啦
URL:https://icshq.org/event/%e6%96%b0%e6%b4%bb%e5%8a%a8/
LOCATION:City Center\, Street Ave\, 154\, New York\, 18000\, Åland Islands
ORGANIZER;CN="EventOrg":MAILTO:mail@example.com
END:VEVENT
BEGIN:VEVENT
DTSTART;VALUE=DATE:20240420
DTEND;VALUE=DATE:20240421
DTSTAMP:20260420T005724
CREATED:20240419T021843Z
LAST-MODIFIED:20240419T021843Z
UID:553-1713571200-1713657599@icshq.org
SUMMARY:母亲节
DESCRIPTION:更新： \n首图更新：自定义-页眉图片1920*800 \n活动更新：【逻辑 排火车】自定义-主页设置-往下滑，改内容1140*855（前提是写好活动文章） \n活动更新： \n新建活动-「设置好地点和主办人」写活动细节 \n特色图片1920*1080 \n文章更新： \n1.填写内容 \n2.选择分类 \n3.选择特色图片1920*800 \n4.写摘要–经文
URL:https://icshq.org/event/%e6%af%8d%e4%ba%b2%e8%8a%82/
LOCATION:Grand Millennium Shanghai\, Yan'an West road 2588\, shanghai\, 上海市 — Shanghai Shi\, 200000\, 中国
END:VEVENT
END:VCALENDAR