BEGIN:VCALENDAR
VERSION:2.0
PRODID:-//International Church of Shanghai - ECPv6.13.2.1//NONSGML v1.0//EN
CALSCALE:GREGORIAN
METHOD:PUBLISH
X-ORIGINAL-URL:https://icshq.org
X-WR-CALDESC:Events for International Church of Shanghai
REFRESH-INTERVAL;VALUE=DURATION:PT1H
X-Robots-Tag:noindex
X-PUBLISHED-TTL:PT1H
BEGIN:VTIMEZONE
TZID:Asia/Shanghai
BEGIN:STANDARD
TZOFFSETFROM:+0800
TZOFFSETTO:+0800
TZNAME:CST
DTSTART:20250101T000000
END:STANDARD
END:VTIMEZONE
BEGIN:VEVENT
DTSTART;TZID=Asia/Shanghai:20250316T090000
DTEND;TZID=Asia/Shanghai:20250430T123000
DTSTAMP:20260420T130733
CREATED:20250309T100419Z
LAST-MODIFIED:20250428T133735Z
UID:9490-1742115600-1746016200@icshq.org
SUMMARY:SERVICE LOCATION ADJUSTMENT
DESCRIPTION:Starting on 16 March\, we will change the location of our ADULT Sunday Service due to the availability of hotel ballrooms and event arrangements.  \n从 3 月 16 日起，由于酒店宴会厅的可用性和活动安排的原因，我们将更改主日礼拜的地点。 \n  \nPlease review the details of the new arrangement below: \n请查看以下新安排的详细信息： \nGrand Millennium Shanghai ( no. 2588\, Yan’an West Road\, Changning District\, Shanghai) \n上海千禧海鸥大酒店 （上海市长宁区延安西路2588号） \n\nAdult Service 成人礼拜: \n📍 Garden Pavilion | 花月亭 \nKids Church 儿童教会： \n📍2F Prosperity Hall | 2楼海纳厅 \nTrailblazers Youth 开拓者青年团契: \n📍 3F Conference 1-5 | 三楼会议室1-2 \n\nDon’t run to the wrong place ya! 不要跑错了地方哦！
URL:https://icshq.org/event/service-location-adjustment/
LOCATION:Grand Millennium Shanghai\, Yan'an West road 2588\, shanghai\, 上海市 — Shanghai Shi\, 200000\, 中国
CATEGORIES:Operation
ATTACH;FMTTYPE=image/png:https://icshq.org/wp-content/uploads/2025/03/Service-Location.png
ORGANIZER;CN="ICS Operation Team":MAILTO:info@icshq.org
END:VEVENT
END:VCALENDAR