BEGIN:VCALENDAR
VERSION:2.0
PRODID:-//International Church of Shanghai - ECPv6.13.2.1//NONSGML v1.0//EN
CALSCALE:GREGORIAN
METHOD:PUBLISH
X-WR-CALNAME:International Church of Shanghai
X-ORIGINAL-URL:https://icshq.org
X-WR-CALDESC:Events for International Church of Shanghai
REFRESH-INTERVAL;VALUE=DURATION:PT1H
X-Robots-Tag:noindex
X-PUBLISHED-TTL:PT1H
BEGIN:VTIMEZONE
TZID:Asia/Shanghai
BEGIN:STANDARD
TZOFFSETFROM:+0800
TZOFFSETTO:+0800
TZNAME:CST
DTSTART:20240101T000000
END:STANDARD
END:VTIMEZONE
BEGIN:VEVENT
DTSTART;TZID=Asia/Shanghai:20241208T093000
DTEND;TZID=Asia/Shanghai:20241208T133000
DTSTAMP:20260423T061805
CREATED:20241011T141454Z
LAST-MODIFIED:20241011T141454Z
UID:7189-1733650200-1733664600@icshq.org
SUMMARY:16th ANNIVERSARY SERVICE
DESCRIPTION:A special morning worship service will start at 10:00 a.m. Right after the service\, what a perfect time to connect (or reconnect) with one another with some fun activities and light refreshments. This event is open to everyone with foreign passports\, so do take this opportunity to invite your friends and family to join us on this meaningful day. \n特别的礼拜将在上午 10 点开始。结束后，我们安排了有趣的活动和简便茶点，正是与彼此联结或重新联结的美好时刻。本次活动对所有持外国护照的朋友开放，因此请借此机会邀请您的亲朋好友一同参与，共度这个意义非凡的日子。
URL:https://icshq.org/event/16th-anniversary-service/
LOCATION:Xijiao Guest State Hotel\, No. 1921 Hongqiao Road\, Changning District\, Shanghai\, Shanghai Shi\, 200000\, China
CATEGORIES:Operation,Special Events
ORGANIZER;CN="ICS Operation Team":MAILTO:info@icshq.org
END:VEVENT
END:VCALENDAR