BEGIN:VCALENDAR
VERSION:2.0
PRODID:-//International Church of Shanghai - ECPv6.13.2.1//NONSGML v1.0//EN
CALSCALE:GREGORIAN
METHOD:PUBLISH
X-ORIGINAL-URL:https://icshq.org
X-WR-CALDESC:Events for International Church of Shanghai
REFRESH-INTERVAL;VALUE=DURATION:PT1H
X-Robots-Tag:noindex
X-PUBLISHED-TTL:PT1H
BEGIN:VTIMEZONE
TZID:Asia/Shanghai
BEGIN:STANDARD
TZOFFSETFROM:+0800
TZOFFSETTO:+0800
TZNAME:CST
DTSTART:20250101T000000
END:STANDARD
END:VTIMEZONE
BEGIN:VEVENT
DTSTART;TZID=Asia/Shanghai:20250202T090000
DTEND;TZID=Asia/Shanghai:20250202T103000
DTSTAMP:20260423T003821
CREATED:20250109T142146Z
LAST-MODIFIED:20250109T142146Z
UID:8432-1738486800-1738492200@icshq.org
SUMMARY:2025 CNY Service Arrangement
DESCRIPTION:Please note the CNY service arrangements for ICS 2025 below: \n26 January 2025**   \n\n9:00 AM: Service with Chinese Interpretation  \n11:00 AM: Service in English Only  \n\n(Adult service\, Trailblazers youth\, Kids’ church) \n2 February 2025**   \n\nOne combined service at 9:00 AM only  \n\n  (Combined Adult & Youth service\, Kids’ church)
URL:https://icshq.org/event/2025-cny-service-arrangement/
LOCATION:上海市 — Shanghai Shi
CATEGORIES:Operation
ORGANIZER;CN="ICS Operation Team":MAILTO:info@icshq.org
END:VEVENT
END:VCALENDAR